BEGIN:VCALENDAR
VERSION:2.0
PRODID:-//The Tapestry Network - ECPv6.15.20//NONSGML v1.0//EN
CALSCALE:GREGORIAN
METHOD:PUBLISH
X-ORIGINAL-URL:https://thetapestrynetwork.com
X-WR-CALDESC:Events for The Tapestry Network
REFRESH-INTERVAL;VALUE=DURATION:PT1H
X-Robots-Tag:noindex
X-PUBLISHED-TTL:PT1H
BEGIN:VTIMEZONE
TZID:America/Los_Angeles
BEGIN:DAYLIGHT
TZOFFSETFROM:-0800
TZOFFSETTO:-0700
TZNAME:PDT
DTSTART:20250309T100000
END:DAYLIGHT
BEGIN:STANDARD
TZOFFSETFROM:-0700
TZOFFSETTO:-0800
TZNAME:PST
DTSTART:20251102T090000
END:STANDARD
BEGIN:DAYLIGHT
TZOFFSETFROM:-0800
TZOFFSETTO:-0700
TZNAME:PDT
DTSTART:20260308T100000
END:DAYLIGHT
BEGIN:STANDARD
TZOFFSETFROM:-0700
TZOFFSETTO:-0800
TZNAME:PST
DTSTART:20261101T090000
END:STANDARD
BEGIN:DAYLIGHT
TZOFFSETFROM:-0800
TZOFFSETTO:-0700
TZNAME:PDT
DTSTART:20270314T100000
END:DAYLIGHT
BEGIN:STANDARD
TZOFFSETFROM:-0700
TZOFFSETTO:-0800
TZNAME:PST
DTSTART:20271107T090000
END:STANDARD
END:VTIMEZONE
BEGIN:VEVENT
DTSTART;TZID=America/Los_Angeles:20260409T110000
DTEND;TZID=America/Los_Angeles:20260409T120000
DTSTAMP:20260421T103733
CREATED:20260303T185357Z
LAST-MODIFIED:20260326T212944Z
UID:10002939-1775732400-1775736000@thetapestrynetwork.com
SUMMARY:Thursday Thread - Tapestry Circle (Day)
DESCRIPTION:https://bit.ly/ThursdayThreadDay\n\nA Free Thursday Thread Gathering\n\nNot all conversations are created equal.\n\nFor 15 years\, The Tapestry Network has used the same structured\, Spirit-led format to help women move beyond talking about challenges and into real clarity and forward movement.\nYou could think of it as a Spirit-led\, structured mini-mastermind — but instead of quick advice or surface brainstorming\, we lean into discernment\, wisdom\, and intentional listening.\nWe do not gather to react. We gather to seek clarity together.\nEach Thursday Thread: Circle session centers around one woman bringing a real challenge in Faith\, life\, or business… followed by guided insight using our proven Circle structure.\nHere’s how we do it…\n\nOne woman shares:\n• The challenge she’s facing• The context that matters• Where she feels stuck\n\nThe Circle responds with:\n• Thoughtful listening• Spirit-led insight• Strategic perspective• Practical next steps\n\nSimple. Focused. Intentional.\n\nThis structure creates:\n• Clarity where there was confusion• Direction where there was uncertainty• Courage to move forward• Breakthrough that carries beyond the call\n\nIf you value the depth of a mastermind but desire the grounding of Spirit-led wisdom\, we invite you to experience Tapestry Circle.\n\nFree to attend – Come see what happens when wisdom is woven together!
URL:https://thetapestrynetwork.com/event/thursday-thread-tapestry-circle-morning/2026-04-09/
ATTACH;FMTTYPE=image/png:https://thetapestrynetwork.com/wp-content/uploads/2026/03/Screenshot-2026-03-03-103312.png
ORGANIZER;CN="The Tapestry Network":MAILTO:stephanie@thetapestrynetwork.com
LOCATION:https://thetapestrynetwork.com/event/thursday-thread-tapestry-circle-morning/2026-04-09/
END:VEVENT
BEGIN:VEVENT
DTSTART;TZID=America/Los_Angeles:20260409T173000
DTEND;TZID=America/Los_Angeles:20260409T193000
DTSTAMP:20260421T103733
CREATED:20260322T171603Z
LAST-MODIFIED:20260322T171603Z
UID:10003420-1775755800-1775763000@thetapestrynetwork.com
SUMMARY:Sac Regional (Virtual) Woven in Gathering - Speaker Lori Etchison
DESCRIPTION:A virtual marketplace experience\n\n\n\nYou’ve been showing up for your business and your life… but you know there’s more. \n\n\n\nMore clarity.More connection.More space to be fully yourself. \n\n\n\nThe Woven Gathering is where faith\, life\, and business come together without competing for your attention. This isn’t networking or performance. It’s a Spirit-led space for real conversation\, encouragement\, and forward movement\, now offered virtually. \n\n\n\nEach month\, women gather online to talk honestly about business\, faith\, leadership\, and life… and to leave clearer\, lighter\, and more encouraged than when they arrived. \n\n\n\nWhat to expect: \n\n\n\n• A featured speaker offering insight to support forward movement in business and/or life• Guided conversation and connection in a welcoming virtual space• Prayer and reflection woven naturally throughout the gathering• Space to bring your questions\, ideas\, and vision without pressure• The freedom to join from wherever you are\, without travel or logistics• Opportunities to learn about and support Kingdom-centered impact \n\n\n\nHere\, you don’t have to choose between who you are and what you’re building. You’re invited to show up as you are… and grow from there. \n\n\n\nMany women leave saying\, “This is what I didn’t know I needed.” \n\n\n\nCome join us. Be present. Be encouraged. Be woven in. \n\n\n\nWhether your faith feels strong\, tender\, or still unfolding… you are welcome here. \nMeet our Speaker: Lori L Etchison \nLori is a Leadership Guide & Mentor\, Accountant\, and Businesswoman with years of experience navigating corporate leadership. She helps leaders stand firm in truth\, lead with wisdom\, and remain whole while navigating complexity\, pressure\, and responsibility \n \nTitle: Standing Firm: Faithful Leadership in Seasons of Resistance \nTakeaways: \n1. Standing firm in truth and integrity amid resistance or betrayal \n2. Peace beyond conflict—leading with alignment\, not comfort \n3. How to pray through conflict and hostility \n4. Trusting God to use hard seasons to refine and strengthen your calling \n\n\n\n* Tickets are non-refundable \n\n\n\n\n\n\n \n\n\n\n \n\n\n\n \n\n\n\n \n\n\n\n \n\n\n\n \n\n\n\n \n\n\n\n\n\n\n 
URL:https://thetapestrynetwork.com/event/sac-regional-virtual-woven-in-gathering-speaker-lori-etchison/
CATEGORIES:Woven In Gathering
ATTACH;FMTTYPE=image/png:https://thetapestrynetwork.com/wp-content/uploads/2025/12/Screenshot-2025-12-24-163800.png
ORGANIZER;CN="Sacramento Regional":MAILTO:stephanie@thetapestrynetwork.com
END:VEVENT
END:VCALENDAR