BEGIN:VCALENDAR
VERSION:2.0
PRODID:-//The Tapestry Network - ECPv6.15.20//NONSGML v1.0//EN
CALSCALE:GREGORIAN
METHOD:PUBLISH
X-ORIGINAL-URL:https://thetapestrynetwork.com
X-WR-CALDESC:Events for The Tapestry Network
REFRESH-INTERVAL;VALUE=DURATION:PT1H
X-Robots-Tag:noindex
X-PUBLISHED-TTL:PT1H
BEGIN:VTIMEZONE
TZID:America/Los_Angeles
BEGIN:DAYLIGHT
TZOFFSETFROM:-0800
TZOFFSETTO:-0700
TZNAME:PDT
DTSTART:20250309T100000
END:DAYLIGHT
BEGIN:STANDARD
TZOFFSETFROM:-0700
TZOFFSETTO:-0800
TZNAME:PST
DTSTART:20251102T090000
END:STANDARD
BEGIN:DAYLIGHT
TZOFFSETFROM:-0800
TZOFFSETTO:-0700
TZNAME:PDT
DTSTART:20260308T100000
END:DAYLIGHT
BEGIN:STANDARD
TZOFFSETFROM:-0700
TZOFFSETTO:-0800
TZNAME:PST
DTSTART:20261101T090000
END:STANDARD
BEGIN:DAYLIGHT
TZOFFSETFROM:-0800
TZOFFSETTO:-0700
TZNAME:PDT
DTSTART:20270314T100000
END:DAYLIGHT
BEGIN:STANDARD
TZOFFSETFROM:-0700
TZOFFSETTO:-0800
TZNAME:PST
DTSTART:20271107T090000
END:STANDARD
END:VTIMEZONE
BEGIN:VEVENT
DTSTART;TZID=America/Los_Angeles:20261008T110000
DTEND;TZID=America/Los_Angeles:20261008T120000
DTSTAMP:20260422T160532
CREATED:20260303T185357Z
LAST-MODIFIED:20260326T212944Z
UID:10002945-1791457200-1791460800@thetapestrynetwork.com
SUMMARY:Thursday Thread - Tapestry Circle (Day)
DESCRIPTION:https://bit.ly/ThursdayThreadDay\n\nA Free Thursday Thread Gathering\n\nNot all conversations are created equal.\n\nFor 15 years\, The Tapestry Network has used the same structured\, Spirit-led format to help women move beyond talking about challenges and into real clarity and forward movement.\nYou could think of it as a Spirit-led\, structured mini-mastermind — but instead of quick advice or surface brainstorming\, we lean into discernment\, wisdom\, and intentional listening.\nWe do not gather to react. We gather to seek clarity together.\nEach Thursday Thread: Circle session centers around one woman bringing a real challenge in Faith\, life\, or business… followed by guided insight using our proven Circle structure.\nHere’s how we do it…\n\nOne woman shares:\n• The challenge she’s facing• The context that matters• Where she feels stuck\n\nThe Circle responds with:\n• Thoughtful listening• Spirit-led insight• Strategic perspective• Practical next steps\n\nSimple. Focused. Intentional.\n\nThis structure creates:\n• Clarity where there was confusion• Direction where there was uncertainty• Courage to move forward• Breakthrough that carries beyond the call\n\nIf you value the depth of a mastermind but desire the grounding of Spirit-led wisdom\, we invite you to experience Tapestry Circle.\n\nFree to attend – Come see what happens when wisdom is woven together!
URL:https://thetapestrynetwork.com/event/thursday-thread-tapestry-circle-morning/2026-10-08/
ATTACH;FMTTYPE=image/png:https://thetapestrynetwork.com/wp-content/uploads/2026/03/Screenshot-2026-03-03-103312.png
ORGANIZER;CN="The Tapestry Network":MAILTO:stephanie@thetapestrynetwork.com
LOCATION:https://thetapestrynetwork.com/event/thursday-thread-tapestry-circle-morning/2026-10-08/
END:VEVENT
END:VCALENDAR