BEGIN:VCALENDAR
VERSION:2.0
PRODID:-//The Tapestry Network - ECPv6.15.20//NONSGML v1.0//EN
CALSCALE:GREGORIAN
METHOD:PUBLISH
X-ORIGINAL-URL:https://thetapestrynetwork.com
X-WR-CALDESC:Events for The Tapestry Network
REFRESH-INTERVAL;VALUE=DURATION:PT1H
X-Robots-Tag:noindex
X-PUBLISHED-TTL:PT1H
BEGIN:VTIMEZONE
TZID:America/Los_Angeles
BEGIN:DAYLIGHT
TZOFFSETFROM:-0800
TZOFFSETTO:-0700
TZNAME:PDT
DTSTART:20240310T100000
END:DAYLIGHT
BEGIN:STANDARD
TZOFFSETFROM:-0700
TZOFFSETTO:-0800
TZNAME:PST
DTSTART:20241103T090000
END:STANDARD
BEGIN:DAYLIGHT
TZOFFSETFROM:-0800
TZOFFSETTO:-0700
TZNAME:PDT
DTSTART:20250309T100000
END:DAYLIGHT
BEGIN:STANDARD
TZOFFSETFROM:-0700
TZOFFSETTO:-0800
TZNAME:PST
DTSTART:20251102T090000
END:STANDARD
BEGIN:DAYLIGHT
TZOFFSETFROM:-0800
TZOFFSETTO:-0700
TZNAME:PDT
DTSTART:20260308T100000
END:DAYLIGHT
BEGIN:STANDARD
TZOFFSETFROM:-0700
TZOFFSETTO:-0800
TZNAME:PST
DTSTART:20261101T090000
END:STANDARD
BEGIN:DAYLIGHT
TZOFFSETFROM:-0800
TZOFFSETTO:-0700
TZNAME:PDT
DTSTART:20270314T100000
END:DAYLIGHT
BEGIN:STANDARD
TZOFFSETFROM:-0700
TZOFFSETTO:-0800
TZNAME:PST
DTSTART:20271107T090000
END:STANDARD
END:VTIMEZONE
BEGIN:VEVENT
DTSTART;TZID=America/Los_Angeles:20260104T063000
DTEND;TZID=America/Los_Angeles:20260104T073000
DTSTAMP:20260422T215015
CREATED:20260101T003140Z
LAST-MODIFIED:20260101T010136Z
UID:10001835-1767508200-1767511800@thetapestrynetwork.com
SUMMARY:Let's Go to Church
DESCRIPTION:Sunday sisterhood conversations bring Church to life. \n\n\n\nWe know not everyone can make it to an in-person church… and watching church alone isn’t always life-giving. \n\n\n\nEach Sunday\, women gather online to watch church together\, then reflect and connect in a relaxed\, welcoming space. We stream Life.Church and create room for real conversation around the message… without pressure\, performance\, or expectations. \n\n\n\nBecause of technology and timing\, we’re usually a few weeks behind the live teachings… and that’s perfectly okay. What matters most is showing up\, being fed\, and growing together. \n\n\n\nWhat to expect: \n\n\n\n• Watching the message together in community• Thoughtful conversation and shared reflection• Space to listen\, process\, and be encouraged• Freedom to participate at your own pace \n\n\n\nJoin us in a Zoom square (https://us02web.zoom.us/j/82252541743)\, and if you can’t do that\, watch along in our private Facebook Group Our Daily Thread. You will need to be a member of Our Daily Thread to gain access.  \n\n\n\nWe do our best to start on time… though some Sundays the West Coast is still waking up and we’re a minute or two slow to press “Go Live.” Grace always wins here. \n\n\n\nWhether this is your regular rhythm or your first time joining us… There’s a seat for YOU!
URL:https://thetapestrynetwork.com/event/lets-go-to-church-2/2026-01-04/
CATEGORIES:Let's Go to Church
ATTACH;FMTTYPE=image/png:https://thetapestrynetwork.com/wp-content/uploads/2025/12/Lets-go-to-church_Square.png
ORGANIZER;CN="Tapestry Community":MAILTO:stephanie@thetapestrynetwork.com
END:VEVENT
BEGIN:VEVENT
DTSTART;TZID=America/Los_Angeles:20260103T070000
DTEND;TZID=America/Los_Angeles:20260103T080000
DTSTAMP:20260422T215015
CREATED:20260101T003811Z
LAST-MODIFIED:20260101T005611Z
UID:10001836-1767423600-1767427200@thetapestrynetwork.com
SUMMARY:Soul Sister Saturday
DESCRIPTION:Soul Sister Saturday is a relaxed\, life-giving gathering where women come together to reflect on where God has been moving\, celebrate the wins\, and speak intentions for the week ahead. \n\n\n\nThis is a space to slow down\, connect\, and realign… surrounded by women who care deeply about faith\, life\, and walking this journey together with intention and accountability. \n\n\n\nEach gathering is conversational and welcoming. Bring your favorite beverage\, your heart\, and your voice as we share\, listen\, and encourage one another in a supportive sisterhood. \n\n\n\nWhat to expect: \n\n\n\n• Honest conversation about faith and real life• Reflection on the week behind and intention-setting for the week ahead• Encouragement\, prayerful perspective\, and connection• A warm\, welcoming space where participation is always your choice \n\n\n\nSoul Sister Saturday streams live inside Our Daily Thread\, our private Facebook group. Members can watch the stream there and/or grab the Zoom link to join the conversation in a Zoom square (http://bit.ly/ODTSoulSister). \n\n\n\nWhether you’re craving connection\, clarity\, or simply a place to land for an hour… There’s a seat for YOU here!
URL:https://thetapestrynetwork.com/event/soul-sister-saturday-5/2026-01-03/
CATEGORIES:Soul Sister Saturday
ATTACH;FMTTYPE=image/png:https://thetapestrynetwork.com/wp-content/uploads/2025/12/Soul-Sister-Saturday_2026_Square-scaled.png
ORGANIZER;CN="Tapestry Community":MAILTO:stephanie@thetapestrynetwork.com
END:VEVENT
BEGIN:VEVENT
DTSTART;TZID=America/Los_Angeles:20251228T063000
DTEND;TZID=America/Los_Angeles:20251228T073000
DTSTAMP:20260422T215015
CREATED:20251225T040317Z
LAST-MODIFIED:20260101T005802Z
UID:10001039-1766903400-1766907000@thetapestrynetwork.com
SUMMARY:Let's Go to Church
DESCRIPTION:Sunday sisterhood conversations bring Church to life. \n\n\n\nWe know not everyone can make it to an in-person church… and watching church alone isn’t always life-giving. \n\n\n\nEach Sunday\, women gather online to watch church together\, then reflect and connect in a relaxed\, welcoming space. We stream Life.Church and create room for real conversation around the message… without pressure\, performance\, or expectations. \n\n\n\nBecause of technology and timing\, we’re usually a few weeks behind the live teachings… and that’s perfectly okay. What matters most is showing up\, being fed\, and growing together. \n\n\n\nWhat to expect: \n\n\n\n• Watching the message together in community• Thoughtful conversation and shared reflection• Space to listen\, process\, and be encouraged• Freedom to participate at your own pace \n\n\n\nJoin us in a Zoom square (https://us02web.zoom.us/j/82252541743)\, and if you can’t do that\, watch along in our private Facebook Group Our Daily Thread. You will need to be a member of Our Daily Thread to gain access.  \n\n\n\nWe do our best to start on time… though some Sundays the West Coast is still waking up and we’re a minute or two slow to press “Go Live.” Grace always wins here. \n\n\n\nWhether this is your regular rhythm or your first time joining us… There’s a seat for YOU!
URL:https://thetapestrynetwork.com/event/lets-go-to-church/
CATEGORIES:Let's Go to Church
ATTACH;FMTTYPE=image/png:https://thetapestrynetwork.com/wp-content/uploads/2025/12/Lets-go-to-church_Square.png
ORGANIZER;CN="Tapestry Community":MAILTO:stephanie@thetapestrynetwork.com
END:VEVENT
BEGIN:VEVENT
DTSTART;TZID=America/Los_Angeles:20251227T070000
DTEND;TZID=America/Los_Angeles:20251227T080000
DTSTAMP:20260422T215015
CREATED:20260101T003811Z
LAST-MODIFIED:20260101T005611Z
UID:10001833-1766818800-1766822400@thetapestrynetwork.com
SUMMARY:Soul Sister Saturday
DESCRIPTION:Soul Sister Saturday is a relaxed\, life-giving gathering where women come together to reflect on where God has been moving\, celebrate the wins\, and speak intentions for the week ahead. \n\n\n\nThis is a space to slow down\, connect\, and realign… surrounded by women who care deeply about faith\, life\, and walking this journey together with intention and accountability. \n\n\n\nEach gathering is conversational and welcoming. Bring your favorite beverage\, your heart\, and your voice as we share\, listen\, and encourage one another in a supportive sisterhood. \n\n\n\nWhat to expect: \n\n\n\n• Honest conversation about faith and real life• Reflection on the week behind and intention-setting for the week ahead• Encouragement\, prayerful perspective\, and connection• A warm\, welcoming space where participation is always your choice \n\n\n\nSoul Sister Saturday streams live inside Our Daily Thread\, our private Facebook group. Members can watch the stream there and/or grab the Zoom link to join the conversation in a Zoom square (http://bit.ly/ODTSoulSister). \n\n\n\nWhether you’re craving connection\, clarity\, or simply a place to land for an hour… There’s a seat for YOU here!
URL:https://thetapestrynetwork.com/event/soul-sister-saturday-5/2025-12-27/
CATEGORIES:Soul Sister Saturday
ATTACH;FMTTYPE=image/png:https://thetapestrynetwork.com/wp-content/uploads/2025/12/Soul-Sister-Saturday_2026_Square-scaled.png
ORGANIZER;CN="Tapestry Community":MAILTO:stephanie@thetapestrynetwork.com
END:VEVENT
BEGIN:VEVENT
DTSTART;TZID=America/Los_Angeles:20251227T070000
DTEND;TZID=America/Los_Angeles:20251227T080000
DTSTAMP:20260422T215015
CREATED:20260101T000027Z
LAST-MODIFIED:20260101T003430Z
UID:10001831-1766818800-1766822400@thetapestrynetwork.com
SUMMARY:Soul Sister Saturday
DESCRIPTION:Soul Sister Saturday is a relaxed\, life-giving gathering where women come together to reflect on where God has been moving\, celebrate the wins\, and speak intentions for the week ahead. \n\n\n\nThis is a space to slow down\, connect\, and realign… surrounded by women who care deeply about faith\, life\, and walking this journey together with intention and accountability. \n\n\n\nEach gathering is conversational and welcoming. Bring your favorite beverage\, your heart\, and your voice as we share\, listen\, and encourage one another in a supportive sisterhood. \n\n\n\nWhat to expect: \n\n\n\n• Honest conversation about faith and real life• Reflection on the week behind and intention-setting for the week ahead• Encouragement\, prayerful perspective\, and connection• A warm\, welcoming space where participation is always your choice \n\n\n\nSoul Sister Saturday streams live inside Our Daily Thread\, our private Facebook group. Members can watch the stream there and/or grab the Zoom link to join the conversation in a Zoom square (http://bit.ly/ODTSoulSister). \n\n\n\nWhether you’re craving connection\, clarity\, or simply a place to land for an hour… There’s a seat for YOU here!
URL:https://thetapestrynetwork.com/event/soul-sister-saturday-4/
CATEGORIES:Soul Sister Saturday
ATTACH;FMTTYPE=image/png:https://thetapestrynetwork.com/wp-content/uploads/2025/12/Soul-Sister-Saturday_2026_Square-scaled.png
ORGANIZER;CN="Tapestry Community":MAILTO:stephanie@thetapestrynetwork.com
END:VEVENT
BEGIN:VEVENT
DTSTART;TZID=America/Los_Angeles:20251227T070000
DTEND;TZID=America/Los_Angeles:20251227T080000
DTSTAMP:20260422T215015
CREATED:20251230T183220Z
LAST-MODIFIED:20251231T235753Z
UID:10001828-1766818800-1766822400@thetapestrynetwork.com
SUMMARY:Soul Sister Saturday
DESCRIPTION:Soul Sister Saturday is a relaxed\, life-giving gathering where women come together to reflect on where God has been moving\, celebrate the wins\, and speak intentions for the week ahead. \n\n\n\nThis is a space to slow down\, connect\, and realign… surrounded by women who care deeply about faith\, life\, and walking this journey together with intention and accountability. \n\n\n\nEach gathering is conversational and welcoming. Bring your favorite beverage\, your heart\, and your voice as we share\, listen\, and encourage one another in a supportive sisterhood. \n\n\n\nWhat to expect: \n\n\n\n• Honest conversation about faith and real life• Reflection on the week behind and intention-setting for the week ahead• Encouragement\, prayerful perspective\, and connection• A warm\, welcoming space where participation is always your choice \n\n\n\nSoul Sister Saturday streams live inside Our Daily Thread\, our private Facebook group. Members can watch the stream there and/or grab the Zoom link to join the conversation in a Zoom square (http://bit.ly/ODTSoulSister). \n\n\n\nWhether you’re craving connection\, clarity\, or simply a place to land for an hour… There’s a seat for YOU here!
URL:https://thetapestrynetwork.com/event/soul-sister-saturday-3/
CATEGORIES:Soul Sister Saturday
ATTACH;FMTTYPE=image/png:https://thetapestrynetwork.com/wp-content/uploads/2025/12/Soul-Sister-Saturday_2026_Square-scaled.png
ORGANIZER;CN="Tapestry Community":MAILTO:stephanie@thetapestrynetwork.com
END:VEVENT
BEGIN:VEVENT
DTSTART;TZID=America/Los_Angeles:20251227T070000
DTEND;TZID=America/Los_Angeles:20251227T080000
DTSTAMP:20260422T215015
CREATED:20251230T182214Z
LAST-MODIFIED:20251230T183142Z
UID:10001301-1766818800-1766822400@thetapestrynetwork.com
SUMMARY:Soul Sister Saturday
DESCRIPTION:Soul Sister Saturday is a relaxed\, life-giving gathering where women come together to reflect on where God has been moving\, celebrate the wins\, and speak intentions for the week ahead. \n\n\n\nThis is a space to slow down\, connect\, and realign… surrounded by women who care deeply about faith\, life\, and walking this journey together with intention and accountability. \n\n\n\nEach gathering is conversational and welcoming. Bring your favorite beverage\, your heart\, and your voice as we share\, listen\, and encourage one another in a supportive sisterhood. \n\n\n\nWhat to expect: \n\n\n\n• Honest conversation about faith and real life• Reflection on the week behind and intention-setting for the week ahead• Encouragement\, prayerful perspective\, and connection• A warm\, welcoming space where participation is always your choice \n\n\n\nSoul Sister Saturday streams live inside Our Daily Thread\, our private Facebook group. Members can watch the stream there and/or grab the Zoom link to join the conversation in a Zoom square (http://bit.ly/ODTSoulSister). \n\n\n\nWhether you’re craving connection\, clarity\, or simply a place to land for an hour… There’s a seat for YOU here!
URL:https://thetapestrynetwork.com/event/soul-sister-saturday-2/
CATEGORIES:Soul Sister Saturday
ORGANIZER;CN="Tapestry Community":MAILTO:stephanie@thetapestrynetwork.com
END:VEVENT
BEGIN:VEVENT
DTSTART;TZID=America/Los_Angeles:20251227T070000
DTEND;TZID=America/Los_Angeles:20251227T080000
DTSTAMP:20260422T215015
CREATED:20251225T043405Z
LAST-MODIFIED:20251230T182139Z
UID:10001300-1766818800-1766822400@thetapestrynetwork.com
SUMMARY:Soul Sister Saturday
DESCRIPTION:Soul Sister Saturday is a relaxed\, life-giving gathering where women come together to reflect on where God has been moving\, celebrate the wins\, and speak intentions for the week ahead. \n\n\n\nThis is a space to slow down\, connect\, and realign… surrounded by women who care deeply about faith\, life\, and walking this journey together with intention and accountability. \n\n\n\nEach gathering is conversational and welcoming. Bring your favorite beverage\, your heart\, and your voice as we share\, listen\, and encourage one another in a supportive sisterhood. \n\n\n\nWhat to expect: \n\n\n\n• Honest conversation about faith and real life• Reflection on the week behind and intention-setting for the week ahead• Encouragement\, prayerful perspective\, and connection• A warm\, welcoming space where participation is always your choice \n\n\n\nSoul Sister Saturday streams live inside Our Daily Thread\, our private Facebook group. Members can watch the stream there and/or grab the Zoom link to join the conversation in a Zoom square (http://bit.ly/ODTSoulSister). \n\n\n\nWhether you’re craving connection\, clarity\, or simply a place to land for an hour… There’s a seat for YOU here!
URL:https://thetapestrynetwork.com/event/soul-sister-saturday/
CATEGORIES:Soul Sister Saturday
ORGANIZER;CN="Tapestry Community":MAILTO:stephanie@thetapestrynetwork.com
END:VEVENT
END:VCALENDAR