BEGIN:VCALENDAR
VERSION:2.0
PRODID:-//The Tapestry Network - ECPv6.15.20//NONSGML v1.0//EN
CALSCALE:GREGORIAN
METHOD:PUBLISH
X-WR-CALNAME:The Tapestry Network
X-ORIGINAL-URL:https://thetapestrynetwork.com
X-WR-CALDESC:Events for The Tapestry Network
REFRESH-INTERVAL;VALUE=DURATION:PT1H
X-Robots-Tag:noindex
X-PUBLISHED-TTL:PT1H
BEGIN:VTIMEZONE
TZID:America/Los_Angeles
BEGIN:DAYLIGHT
TZOFFSETFROM:-0800
TZOFFSETTO:-0700
TZNAME:PDT
DTSTART:20290311T100000
END:DAYLIGHT
BEGIN:STANDARD
TZOFFSETFROM:-0700
TZOFFSETTO:-0800
TZNAME:PST
DTSTART:20291104T090000
END:STANDARD
BEGIN:DAYLIGHT
TZOFFSETFROM:-0800
TZOFFSETTO:-0700
TZNAME:PDT
DTSTART:20300310T100000
END:DAYLIGHT
BEGIN:STANDARD
TZOFFSETFROM:-0700
TZOFFSETTO:-0800
TZNAME:PST
DTSTART:20301103T090000
END:STANDARD
BEGIN:DAYLIGHT
TZOFFSETFROM:-0800
TZOFFSETTO:-0700
TZNAME:PDT
DTSTART:20310309T100000
END:DAYLIGHT
BEGIN:STANDARD
TZOFFSETFROM:-0700
TZOFFSETTO:-0800
TZNAME:PST
DTSTART:20311102T090000
END:STANDARD
END:VTIMEZONE
BEGIN:VEVENT
DTSTART;TZID=America/Los_Angeles:20300508T051500
DTEND;TZID=America/Los_Angeles:20300508T093000
DTSTAMP:20260419T095633
CREATED:20260101T041121Z
LAST-MODIFIED:20260101T044236Z
UID:10002468-1904447700-1904463000@thetapestrynetwork.com
SUMMARY:Woven In Wednesday - Greater Raleigh N.C.
DESCRIPTION:Wednesdays… Come as you are. Leave encouraged\, seen\, and strengthened. \n\n\n\nLife doesn’t come with a filter\, and neither do our conversations at Woven In Wednesdays. This is a sacred space where real women gather to share real stories… testimonies of struggle and triumph\, brokenness and healing\, questions and faith. \n\n\n\nEach week\, a speaker shares part of her journey. We talk about fear\, shame\, lies\, identity\, healing\, and hope. We explore prayer\, intimacy with God\, and how life and business can be lived as ministry. \n\n\n\nThis is not a place to sit quietly on the sidelines. This is a conversation. \n\n\n\nBecause we heal and grow in community. \n\n\n\nNo judgment. No masks. Just women supporting women in truth\, grace\, and love.
URL:https://thetapestrynetwork.com/event/woven-in-wednesday-greater-raleigh-n-c/2030-05-08/
LOCATION:FAVE Nutrition\, 2008 S Main Street Suite 310\, Wake Forest\, North Carolina\, 27587\, United States
CATEGORIES:Woven in Wednesday
ATTACH;FMTTYPE=image/png:https://thetapestrynetwork.com/wp-content/uploads/2025/12/WIW_Melanie.png
ORGANIZER;CN="Tapestry Community":MAILTO:stephanie@thetapestrynetwork.com
END:VEVENT
BEGIN:VEVENT
DTSTART;TZID=America/Los_Angeles:20300612T051500
DTEND;TZID=America/Los_Angeles:20300612T093000
DTSTAMP:20260419T095633
CREATED:20260101T041121Z
LAST-MODIFIED:20260101T044236Z
UID:10002469-1907471700-1907487000@thetapestrynetwork.com
SUMMARY:Woven In Wednesday - Greater Raleigh N.C.
DESCRIPTION:Wednesdays… Come as you are. Leave encouraged\, seen\, and strengthened. \n\n\n\nLife doesn’t come with a filter\, and neither do our conversations at Woven In Wednesdays. This is a sacred space where real women gather to share real stories… testimonies of struggle and triumph\, brokenness and healing\, questions and faith. \n\n\n\nEach week\, a speaker shares part of her journey. We talk about fear\, shame\, lies\, identity\, healing\, and hope. We explore prayer\, intimacy with God\, and how life and business can be lived as ministry. \n\n\n\nThis is not a place to sit quietly on the sidelines. This is a conversation. \n\n\n\nBecause we heal and grow in community. \n\n\n\nNo judgment. No masks. Just women supporting women in truth\, grace\, and love.
URL:https://thetapestrynetwork.com/event/woven-in-wednesday-greater-raleigh-n-c/2030-06-12/
LOCATION:FAVE Nutrition\, 2008 S Main Street Suite 310\, Wake Forest\, North Carolina\, 27587\, United States
CATEGORIES:Woven in Wednesday
ATTACH;FMTTYPE=image/png:https://thetapestrynetwork.com/wp-content/uploads/2025/12/WIW_Melanie.png
ORGANIZER;CN="Tapestry Community":MAILTO:stephanie@thetapestrynetwork.com
END:VEVENT
BEGIN:VEVENT
DTSTART;TZID=America/Los_Angeles:20300710T051500
DTEND;TZID=America/Los_Angeles:20300710T093000
DTSTAMP:20260419T095633
CREATED:20260101T041121Z
LAST-MODIFIED:20260101T044236Z
UID:10002470-1909890900-1909906200@thetapestrynetwork.com
SUMMARY:Woven In Wednesday - Greater Raleigh N.C.
DESCRIPTION:Wednesdays… Come as you are. Leave encouraged\, seen\, and strengthened. \n\n\n\nLife doesn’t come with a filter\, and neither do our conversations at Woven In Wednesdays. This is a sacred space where real women gather to share real stories… testimonies of struggle and triumph\, brokenness and healing\, questions and faith. \n\n\n\nEach week\, a speaker shares part of her journey. We talk about fear\, shame\, lies\, identity\, healing\, and hope. We explore prayer\, intimacy with God\, and how life and business can be lived as ministry. \n\n\n\nThis is not a place to sit quietly on the sidelines. This is a conversation. \n\n\n\nBecause we heal and grow in community. \n\n\n\nNo judgment. No masks. Just women supporting women in truth\, grace\, and love.
URL:https://thetapestrynetwork.com/event/woven-in-wednesday-greater-raleigh-n-c/2030-07-10/
LOCATION:FAVE Nutrition\, 2008 S Main Street Suite 310\, Wake Forest\, North Carolina\, 27587\, United States
CATEGORIES:Woven in Wednesday
ATTACH;FMTTYPE=image/png:https://thetapestrynetwork.com/wp-content/uploads/2025/12/WIW_Melanie.png
ORGANIZER;CN="Tapestry Community":MAILTO:stephanie@thetapestrynetwork.com
END:VEVENT
BEGIN:VEVENT
DTSTART;TZID=America/Los_Angeles:20300814T051500
DTEND;TZID=America/Los_Angeles:20300814T093000
DTSTAMP:20260419T095633
CREATED:20260101T041121Z
LAST-MODIFIED:20260101T044236Z
UID:10002471-1912914900-1912930200@thetapestrynetwork.com
SUMMARY:Woven In Wednesday - Greater Raleigh N.C.
DESCRIPTION:Wednesdays… Come as you are. Leave encouraged\, seen\, and strengthened. \n\n\n\nLife doesn’t come with a filter\, and neither do our conversations at Woven In Wednesdays. This is a sacred space where real women gather to share real stories… testimonies of struggle and triumph\, brokenness and healing\, questions and faith. \n\n\n\nEach week\, a speaker shares part of her journey. We talk about fear\, shame\, lies\, identity\, healing\, and hope. We explore prayer\, intimacy with God\, and how life and business can be lived as ministry. \n\n\n\nThis is not a place to sit quietly on the sidelines. This is a conversation. \n\n\n\nBecause we heal and grow in community. \n\n\n\nNo judgment. No masks. Just women supporting women in truth\, grace\, and love.
URL:https://thetapestrynetwork.com/event/woven-in-wednesday-greater-raleigh-n-c/2030-08-14/
LOCATION:FAVE Nutrition\, 2008 S Main Street Suite 310\, Wake Forest\, North Carolina\, 27587\, United States
CATEGORIES:Woven in Wednesday
ATTACH;FMTTYPE=image/png:https://thetapestrynetwork.com/wp-content/uploads/2025/12/WIW_Melanie.png
ORGANIZER;CN="Tapestry Community":MAILTO:stephanie@thetapestrynetwork.com
END:VEVENT
BEGIN:VEVENT
DTSTART;TZID=America/Los_Angeles:20300911T051500
DTEND;TZID=America/Los_Angeles:20300911T093000
DTSTAMP:20260419T095633
CREATED:20260101T041121Z
LAST-MODIFIED:20260101T044236Z
UID:10002472-1915334100-1915349400@thetapestrynetwork.com
SUMMARY:Woven In Wednesday - Greater Raleigh N.C.
DESCRIPTION:Wednesdays… Come as you are. Leave encouraged\, seen\, and strengthened. \n\n\n\nLife doesn’t come with a filter\, and neither do our conversations at Woven In Wednesdays. This is a sacred space where real women gather to share real stories… testimonies of struggle and triumph\, brokenness and healing\, questions and faith. \n\n\n\nEach week\, a speaker shares part of her journey. We talk about fear\, shame\, lies\, identity\, healing\, and hope. We explore prayer\, intimacy with God\, and how life and business can be lived as ministry. \n\n\n\nThis is not a place to sit quietly on the sidelines. This is a conversation. \n\n\n\nBecause we heal and grow in community. \n\n\n\nNo judgment. No masks. Just women supporting women in truth\, grace\, and love.
URL:https://thetapestrynetwork.com/event/woven-in-wednesday-greater-raleigh-n-c/2030-09-11/
LOCATION:FAVE Nutrition\, 2008 S Main Street Suite 310\, Wake Forest\, North Carolina\, 27587\, United States
CATEGORIES:Woven in Wednesday
ATTACH;FMTTYPE=image/png:https://thetapestrynetwork.com/wp-content/uploads/2025/12/WIW_Melanie.png
ORGANIZER;CN="Tapestry Community":MAILTO:stephanie@thetapestrynetwork.com
END:VEVENT
BEGIN:VEVENT
DTSTART;TZID=America/Los_Angeles:20301009T051500
DTEND;TZID=America/Los_Angeles:20301009T093000
DTSTAMP:20260419T095633
CREATED:20260101T041121Z
LAST-MODIFIED:20260101T044236Z
UID:10002473-1917753300-1917768600@thetapestrynetwork.com
SUMMARY:Woven In Wednesday - Greater Raleigh N.C.
DESCRIPTION:Wednesdays… Come as you are. Leave encouraged\, seen\, and strengthened. \n\n\n\nLife doesn’t come with a filter\, and neither do our conversations at Woven In Wednesdays. This is a sacred space where real women gather to share real stories… testimonies of struggle and triumph\, brokenness and healing\, questions and faith. \n\n\n\nEach week\, a speaker shares part of her journey. We talk about fear\, shame\, lies\, identity\, healing\, and hope. We explore prayer\, intimacy with God\, and how life and business can be lived as ministry. \n\n\n\nThis is not a place to sit quietly on the sidelines. This is a conversation. \n\n\n\nBecause we heal and grow in community. \n\n\n\nNo judgment. No masks. Just women supporting women in truth\, grace\, and love.
URL:https://thetapestrynetwork.com/event/woven-in-wednesday-greater-raleigh-n-c/2030-10-09/
LOCATION:FAVE Nutrition\, 2008 S Main Street Suite 310\, Wake Forest\, North Carolina\, 27587\, United States
CATEGORIES:Woven in Wednesday
ATTACH;FMTTYPE=image/png:https://thetapestrynetwork.com/wp-content/uploads/2025/12/WIW_Melanie.png
ORGANIZER;CN="Tapestry Community":MAILTO:stephanie@thetapestrynetwork.com
END:VEVENT
BEGIN:VEVENT
DTSTART;TZID=America/Los_Angeles:20301113T051500
DTEND;TZID=America/Los_Angeles:20301113T093000
DTSTAMP:20260419T095633
CREATED:20260101T041121Z
LAST-MODIFIED:20260101T044236Z
UID:10002474-1920777300-1920792600@thetapestrynetwork.com
SUMMARY:Woven In Wednesday - Greater Raleigh N.C.
DESCRIPTION:Wednesdays… Come as you are. Leave encouraged\, seen\, and strengthened. \n\n\n\nLife doesn’t come with a filter\, and neither do our conversations at Woven In Wednesdays. This is a sacred space where real women gather to share real stories… testimonies of struggle and triumph\, brokenness and healing\, questions and faith. \n\n\n\nEach week\, a speaker shares part of her journey. We talk about fear\, shame\, lies\, identity\, healing\, and hope. We explore prayer\, intimacy with God\, and how life and business can be lived as ministry. \n\n\n\nThis is not a place to sit quietly on the sidelines. This is a conversation. \n\n\n\nBecause we heal and grow in community. \n\n\n\nNo judgment. No masks. Just women supporting women in truth\, grace\, and love.
URL:https://thetapestrynetwork.com/event/woven-in-wednesday-greater-raleigh-n-c/2030-11-13/
LOCATION:FAVE Nutrition\, 2008 S Main Street Suite 310\, Wake Forest\, North Carolina\, 27587\, United States
CATEGORIES:Woven in Wednesday
ATTACH;FMTTYPE=image/png:https://thetapestrynetwork.com/wp-content/uploads/2025/12/WIW_Melanie.png
ORGANIZER;CN="Tapestry Community":MAILTO:stephanie@thetapestrynetwork.com
END:VEVENT
BEGIN:VEVENT
DTSTART;TZID=America/Los_Angeles:20301211T051500
DTEND;TZID=America/Los_Angeles:20301211T093000
DTSTAMP:20260419T095633
CREATED:20260101T041121Z
LAST-MODIFIED:20260101T044236Z
UID:10002475-1923196500-1923211800@thetapestrynetwork.com
SUMMARY:Woven In Wednesday - Greater Raleigh N.C.
DESCRIPTION:Wednesdays… Come as you are. Leave encouraged\, seen\, and strengthened. \n\n\n\nLife doesn’t come with a filter\, and neither do our conversations at Woven In Wednesdays. This is a sacred space where real women gather to share real stories… testimonies of struggle and triumph\, brokenness and healing\, questions and faith. \n\n\n\nEach week\, a speaker shares part of her journey. We talk about fear\, shame\, lies\, identity\, healing\, and hope. We explore prayer\, intimacy with God\, and how life and business can be lived as ministry. \n\n\n\nThis is not a place to sit quietly on the sidelines. This is a conversation. \n\n\n\nBecause we heal and grow in community. \n\n\n\nNo judgment. No masks. Just women supporting women in truth\, grace\, and love.
URL:https://thetapestrynetwork.com/event/woven-in-wednesday-greater-raleigh-n-c/2030-12-11/
LOCATION:FAVE Nutrition\, 2008 S Main Street Suite 310\, Wake Forest\, North Carolina\, 27587\, United States
CATEGORIES:Woven in Wednesday
ATTACH;FMTTYPE=image/png:https://thetapestrynetwork.com/wp-content/uploads/2025/12/WIW_Melanie.png
ORGANIZER;CN="Tapestry Community":MAILTO:stephanie@thetapestrynetwork.com
END:VEVENT
END:VCALENDAR